BEGIN:VCALENDAR
VERSION:2.0
PRODID:-//eventon.com NONSGML v1.0//EN
CALSCALE:GREGORIAN
METHOD:PUBLISH
BEGIN:VEVENT
UID:69eb63d7cccb9
DTSTAMP:20260424T123639Z
DTSTART:20260430T103000Z
DTEND:20260501T025900Z
LOCATION:Salão Social - Grêmio Aquático de Carazinho Rua Alexandre da Motta\,  nº 2040 Bairro Centro - Carazinho/RS
SUMMARY:Café da Manhã com os Colaboradores - Dia do Trabalhador
DESCRIPTION:Café da manhã especial em homenagem ao Dia do Trabalhador\,  
 promovendo um momento de integração e reconhecimento aos colaboradores.\n
 https://aquaticocarazinho.com.br/events/cafe-da-manha-com-os-colaboradores-
 dia-do-trabalhador/
URL:https://aquaticocarazinho.com.br/events/cafe-da-manha-com-os-colaboradores-dia-do-trabalhador/
END:VEVENT
END:VCALENDAR