BEGIN:VCALENDAR
VERSION:2.0
PRODID:-//eventon.com NONSGML v1.0//EN
CALSCALE:GREGORIAN
METHOD:PUBLISH
BEGIN:VEVENT
UID:69e8b8158caaa
DTSTAMP:20260422T115917Z
DTSTART:20260426T163000Z
DTEND:20260427T025900Z
LOCATION:Quadras Poliesportivas de Areia - Grêmio Aquático de Carazinho
SUMMARY:Torneio Interno - Vôlei de Praia
DESCRIPTION:Inscrições até: 22/04; Valor: R$ 60\, 00 por dupla; Categori
 a: Duplas mistas; Participação: Exclusiva para associados.\nhttps://aquat
 icocarazinho.com.br/events/torneio-interno-volei-de-praia/
URL:https://aquaticocarazinho.com.br/events/torneio-interno-volei-de-praia/
END:VEVENT
END:VCALENDAR