BEGIN:VCALENDAR
VERSION:2.0
PRODID:-//eventon.com NONSGML v1.0//EN
CALSCALE:GREGORIAN
METHOD:PUBLISH
BEGIN:VEVENT
UID:69eb7a490f739
DTSTAMP:20260424T141225Z
DTSTART:20260427T213000Z
DTEND:20260428T025900Z
LOCATION:SalÃ£o Social - GrÃªmio AquÃ¡tico de Carazinho Rua Alexandre da Motta\,  nÂº 2040 Bairro Centro - Carazinho/RS
SUMMARY:ReuniÃ£o: Conselho Fiscal
DESCRIPTION:ReuniÃ£o do Conselho Fiscal destinada Ã  anÃ¡lise das contas\, 
  verificaÃ§Ã£o da gestÃ£o financeira e emissÃ£o de pareceres sobre a situaÃ
 §Ã£o do clube.\nhttps://aquaticocarazinho.com.br/events/reuniao-conselho-fi
 scal/
URL:https://aquaticocarazinho.com.br/events/reuniao-conselho-fiscal/
END:VEVENT
END:VCALENDAR